BEGIN:VCALENDAR
VERSION:2.0
PRODID:-//JEDISQUAD - ECPv5.4.0.2//NONSGML v1.0//EN
CALSCALE:GREGORIAN
METHOD:PUBLISH
X-WR-CALNAME:JEDISQUAD
X-ORIGINAL-URL:https://jedisquad.com
X-WR-CALDESC:Events for JEDISQUAD
BEGIN:VTIMEZONE
TZID:Europe/Madrid
BEGIN:DAYLIGHT
TZOFFSETFROM:+0100
TZOFFSETTO:+0200
TZNAME:CEST
DTSTART:20210328T010000
END:DAYLIGHT
BEGIN:STANDARD
TZOFFSETFROM:+0200
TZOFFSETTO:+0100
TZNAME:CET
DTSTART:20211031T010000
END:STANDARD
END:VTIMEZONE
BEGIN:VEVENT
DTSTART;TZID=Europe/Madrid:20210508T093000
DTEND;TZID=Europe/Madrid:20210509T170000
DTSTAMP:20260423T131844
CREATED:20210428T213410Z
LAST-MODIFIED:20210428T213410Z
UID:5320-1620466200-1620579600@jedisquad.com
SUMMARY:Agile Product Development
DESCRIPTION:
URL:https://jedisquad.com/event/agile-product-development/
END:VEVENT
END:VCALENDAR