BEGIN:VCALENDAR
VERSION:2.0
PRODID:-//JEDISQUAD - ECPv5.4.0.2//NONSGML v1.0//EN
CALSCALE:GREGORIAN
METHOD:PUBLISH
X-WR-CALNAME:JEDISQUAD
X-ORIGINAL-URL:https://jedisquad.com
X-WR-CALDESC:Events for JEDISQUAD
BEGIN:VTIMEZONE
TZID:Europe/Madrid
BEGIN:DAYLIGHT
TZOFFSETFROM:+0100
TZOFFSETTO:+0200
TZNAME:CEST
DTSTART:20210328T010000
END:DAYLIGHT
BEGIN:STANDARD
TZOFFSETFROM:+0200
TZOFFSETTO:+0100
TZNAME:CET
DTSTART:20211031T010000
END:STANDARD
END:VTIMEZONE
BEGIN:VEVENT
DTSTART;TZID=Europe/Madrid:20210426T090000
DTEND;TZID=Europe/Madrid:20210427T170000
DTSTAMP:20260423T162537
CREATED:20191102T190413Z
LAST-MODIFIED:20191102T190413Z
UID:4913-1619427600-1619542800@jedisquad.com
SUMMARY:Certification scrum master (PSM I) PARIS FRANCE
DESCRIPTION:Les méthodes Agiles sont de plus en plus utilisées dans la conduite de projet. SCRUM est la plus connue et la plus utilisée. Cette formation vous donnera les éléments de base à mettre en place pour assurer votre rôle de Scrum Master\, et vous permettra de vous préparer à la certification Professional Scrum Master1 de Scrum.org. Cette formation apportant des exercices concrets. Vous permet d’appréhender les étapes et outils d’une démarche Agile (Scrum)\, et de la corriger aux bons moments dans l’avancement de vos projets. Elle vous permettra d’en jouer le rôle de garant durant le projet.Et de préparer votre certification scrum master. \nA qui s’adresse cette formation ?\nPour qui\nChef de projet.\nMaîtrise d’ouvrage.\nArchitecte. Développeur.\nChef de projets digitaux.\nResponsable de site internet ou extranet.\nResponsable qualité. \nhttps://jedisquad.fr/produit/professional-scrum-master-i-2/
URL:https://jedisquad.com/event/certification-scrum-master-psm-i-paris-france-2021-04-26/
LOCATION:PARIS\, 75015\, France
CATEGORIES:PSM I PROFESSIONAL SCRUM MASTER CERTIFICATION
ATTACH;FMTTYPE=image/png:https://jedisquad.com/wp-content/uploads/2019/05/1PSM-Logo-e1557071654665.png
ORGANIZER;CN="Marouane%20AJRAOUI":MAILTO:marouane.ajraoui@jedisquad.com
END:VEVENT
END:VCALENDAR