BEGIN:VCALENDAR
VERSION:2.0
PRODID:-//JEDISQUAD - ECPv5.4.0.2//NONSGML v1.0//EN
CALSCALE:GREGORIAN
METHOD:PUBLISH
X-WR-CALNAME:JEDISQUAD
X-ORIGINAL-URL:https://jedisquad.com
X-WR-CALDESC:Events for JEDISQUAD
BEGIN:VTIMEZONE
TZID:Europe/Madrid
BEGIN:DAYLIGHT
TZOFFSETFROM:+0100
TZOFFSETTO:+0200
TZNAME:CEST
DTSTART:20210328T010000
END:DAYLIGHT
BEGIN:STANDARD
TZOFFSETFROM:+0200
TZOFFSETTO:+0100
TZNAME:CET
DTSTART:20211031T010000
END:STANDARD
END:VTIMEZONE
BEGIN:VEVENT
DTSTART;TZID=Europe/Madrid:20210424T093000
DTEND;TZID=Europe/Madrid:20210425T170000
DTSTAMP:20260423T180215
CREATED:20210322T181237Z
LAST-MODIFIED:20210322T181237Z
UID:4966-1619256600-1619370000@jedisquad.com
SUMMARY:Certified SAFe® Product Owner / Product Manager
DESCRIPTION:At the end of the training\, trainees will be able to take the exam in order to become a certified SAFe® Product Owner / Product Manager (PM/PO 5.0). \nDevelop the skillsets needed to guide the delivery of value in a Lean enterprise by becoming a SAFe® 5 Product Owner/Product Manager (POPM). During this two-day course\, attendees gain an in-depth understanding of how to effectively perform their role in the Agile Release Train (ART) as it delivers value through Program Increments. \nAttendees explore how to apply Lean thinking to decompose Epics into Features and Stories\, refine Features and Stories\, manage Program and Team backlogs\, and to plan and execute Iterations and Program Increments. Attendees also discover how the Continuous Delivery Pipeline and DevOps culture contribute to the relentless improvement of the ART. \nLearning Goals\nTo perform the role of a SAFe® Product Owner/Product Manager\, attendees should be able to: \n\nArticulate the Product Owner and Product Manager role\nConnect SAFe Lean-Agile principles and values to the PO/PM roles\nDecompose Epics into Features and decompose Features into Stories\nRefine Features into Stories\nManage Program and Team backlogs\nCollaborate with Agile teams in estimating and forecasting work\nRepresent Customer needs in Program Increment Planning\nExecute the Program Increment and deliver continuous value\n\nWhat Attendees Get\nThe class registration includes: \n\nAttendee workbook\nPreparation and eligibility to take the SAFe® 5 Product Owner/Product Manager (POPM) exam\nOne-year membership to the SAFe Community Platform\nCourse certificate of completion\n\nAttendees must attend both days of the course in order to qualify for the exam. \nFor more information: Contact us
URL:https://jedisquad.com/event/certified-safe-product-owner-product-manager/
CATEGORIES:Business Agility,SAFE,Scaled Agile
ATTACH;FMTTYPE=image/png:https://jedisquad.com/wp-content/uploads/2020/02/POSAFE.png
ORGANIZER;CN="Marouane%20AJRAOUI":MAILTO:marouane.ajraoui@jedisquad.com
END:VEVENT
END:VCALENDAR