BEGIN:VCALENDAR
VERSION:2.0
PRODID:-//JEDISQUAD - ECPv5.4.0.2//NONSGML v1.0//EN
CALSCALE:GREGORIAN
METHOD:PUBLISH
X-WR-CALNAME:JEDISQUAD
X-ORIGINAL-URL:https://jedisquad.com
X-WR-CALDESC:Events for JEDISQUAD
BEGIN:VTIMEZONE
TZID:Europe/Madrid
BEGIN:DAYLIGHT
TZOFFSETFROM:+0100
TZOFFSETTO:+0200
TZNAME:CEST
DTSTART:20210328T010000
END:DAYLIGHT
BEGIN:STANDARD
TZOFFSETFROM:+0200
TZOFFSETTO:+0100
TZNAME:CET
DTSTART:20211031T010000
END:STANDARD
END:VTIMEZONE
BEGIN:VEVENT
DTSTART;TZID=Europe/Madrid:20210508T090000
DTEND;TZID=Europe/Madrid:20210509T170000
DTSTAMP:20260423T115101
CREATED:20200831T190009Z
LAST-MODIFIED:20200831T190009Z
UID:4908-1620464400-1620579600@jedisquad.com
SUMMARY:CERTIFIED TRAINING SAFE AGILIST PARIS FRANCE
DESCRIPTION:At the end of the training\, trainees will be able to take the exam in order to become a certified SAFe Agilistes (SA 5.0). \nThe SAFe framework is a codified knowledge platform that is used within medium and large companies to implement lean-Agile development on a large scale. \nThe SAFe (Scaled Agile framework®) framework has become the weapon of choice for world leaders who want to achieve the Lean-Agile transformation of their company and succeed in changing markets. But still you have to know how to use it well. The Leading SAFe training marks the beginning of your journey with this framework.  \nThe two-day Leading SAFe course gives you the keys to successfully leading a Lean-Agile company on the path to adoption of the Scaled Agile Framework® (SAFe). Taking its roots in Lean\, Systems Thinking (or systemic thinking)\, Agile development\, product development flow and DevOps\, SAFe is the framework chosen by global market leaders to take advantage of Business agility. \nLearn how to set up agility at team level and on an Agile Release Train (ART). Organize and reorganize around the value flow. Master the skills to support and execute IP Planning events as well as coordinate multiple Agile Release Trains (ART). You’ll also explore the importance of putting the customer at the center of your concerns and adopting Design Thinking to deliver Agile products. Set up Lean Portfolio Management in your business to bridge the gap between strategy and execution. \nLead your transformation to adopt Business agility with SAFe 5.0! \nDuring this two-day training\, you will learn how to: \n\nLeading the transformation towards Business agility according to SAFe’s recommendations\nUnderstanding the customer’s needs through Design Thinking\nSet up Agile product delivery\nImplement Lean Portfolio Management\nBecoming a Lean-Agile Leader\n\nFor more information: Contact us
URL:https://jedisquad.com/event/certified-training-safe-agilist-paris-france-2021-05-08/
CATEGORIES:SAFE,Scaled Agile
ATTACH;FMTTYPE=image/png:https://jedisquad.com/wp-content/uploads/2020/02/LEADING-SAFE2-1.png
END:VEVENT
END:VCALENDAR