BEGIN:VCALENDAR
VERSION:2.0
PRODID:-//JEDISQUAD - ECPv5.4.0.2//NONSGML v1.0//EN
CALSCALE:GREGORIAN
METHOD:PUBLISH
X-WR-CALNAME:JEDISQUAD
X-ORIGINAL-URL:https://jedisquad.com
X-WR-CALDESC:Events for JEDISQUAD
BEGIN:VTIMEZONE
TZID:Europe/Madrid
BEGIN:DAYLIGHT
TZOFFSETFROM:+0100
TZOFFSETTO:+0200
TZNAME:CEST
DTSTART:20200329T010000
END:DAYLIGHT
BEGIN:STANDARD
TZOFFSETFROM:+0200
TZOFFSETTO:+0100
TZNAME:CET
DTSTART:20201025T010000
END:STANDARD
END:VTIMEZONE
BEGIN:VEVENT
DTSTART;TZID=Europe/Madrid:20200722T093000
DTEND;TZID=Europe/Madrid:20200724T170000
DTSTAMP:20260423T070503
CREATED:20200608T211709Z
LAST-MODIFIED:20200715T210625Z
UID:4219-1595410200-1595610000@jedisquad.com
SUMMARY:Formation Certification Business Agility Casablanca
DESCRIPTION:La «Business Agility» d’une organisation qualifie sa capacité à détecter les changements\, à s’appuyer rapidement sur les nouvelles conditions du marché et à réagir en conséquence afin de fournir la valeur la plus élevée à un écosystème… en un minimum de temps. \nComment aider une organisation à développer sa “Business Agility”?  \nCette formation et certification XSCALE BUSINESS AGILITY permet aux organisations d’y parvenir par étapes faciles\, minimisant les risques tout en démontrant continuellement les bénéfices. Elle fournit une approche simple et pratique à la BUSINESS AGILITY et guide vers le suivant: \n\nSimplification et accélération des structures de communication\nOptimisation des protocoles de leadership et prise de décisions rapide\nCréation des flux de valeur autogérés par des équipes auto-organisées sans perturber les secteurs d’activité existants.\nMinimisation des interdépendances pour améliorer le TTM de votre organisation.\nTransformation du “Command and Control” en “Autonomy and Alignement”\nStimulation d’une organisation performante via la théorie des jeux et des “Rewards Model” à travers le organisation.\nPropulsion de nouvelles sources de valeur en quelques mois\, pas des années via le «Seven Samurai Kanban».Ce chemin est beaucoup plus facile\, moins cher\, plus rapide et plus sûr que les transformations «push» basées sur un framework\, et fiable même dans les environnements les plus politiquement complexes.\nVous apprendrez à ouvrir des goulots d’étranglement dans le flux de valeur\, le flux de travail et le flux d’apprentissage entre les équipes grâce à des simulations de pratiques de la Business Agility: «Game Without Thrones»\, «Pirate Canvas» et «3D Kanban ».\nVous découvrirez de nouvelles voies pour la croissance de votre entreprise. Au lieu de flux à sens unique du producteur vers le consommateur\, vous apprendrez à traiter les marchés comme des écosystèmes\, des «réseaux d’avantages mutuels» canalisés à travers votre entreprise.\n\nXBA est complémentaire mais ne remplace pas les cadres Agile-in-IT traditionnels\, et ne suppose aucune connaissance préalable sur la culture Agile\, sauf une connaissance de base du manifeste Agile. \nPour plus d’information: Contactez nous
URL:https://jedisquad.com/event/formation-certification-business-agility-casablanca/
LOCATION:Casablanca\, Casablanca\, Morocco
ATTACH;FMTTYPE=image/jpeg:https://jedisquad.com/wp-content/uploads/2020/03/xscale-alliance-berlin-product-people-2.jpg
ORGANIZER;CN="Marouane%20AJRAOUI":MAILTO:marouane.ajraoui@jedisquad.com
END:VEVENT
END:VCALENDAR