BEGIN:VCALENDAR
VERSION:2.0
PRODID:-//JEDISQUAD - ECPv5.4.0.2//NONSGML v1.0//EN
CALSCALE:GREGORIAN
METHOD:PUBLISH
X-WR-CALNAME:JEDISQUAD
X-ORIGINAL-URL:https://jedisquad.com
X-WR-CALDESC:Events for JEDISQUAD
BEGIN:VTIMEZONE
TZID:Europe/Madrid
BEGIN:DAYLIGHT
TZOFFSETFROM:+0100
TZOFFSETTO:+0200
TZNAME:CEST
DTSTART:20200329T010000
END:DAYLIGHT
BEGIN:STANDARD
TZOFFSETFROM:+0200
TZOFFSETTO:+0100
TZNAME:CET
DTSTART:20201025T010000
END:STANDARD
END:VTIMEZONE
BEGIN:VEVENT
DTSTART;TZID=Europe/Madrid:20200404T093000
DTEND;TZID=Europe/Madrid:20200405T173000
DTSTAMP:20260423T002052
CREATED:20180218T203305Z
LAST-MODIFIED:20200211T161125Z
UID:1342-1585992600-1586107800@jedisquad.com
SUMMARY:SCRUM MASTER CERTIFIED (SMC)-Alicante SPAIN
DESCRIPTION:Request More Info  Enrol in instructor led training
URL:https://jedisquad.com/event/scrum-master-certified-smc-3/
LOCATION:San vicente del Raspeig\, Calle Villafranqueza 17\, Alicante\, Spain
ATTACH;FMTTYPE=image/png:https://jedisquad.com/wp-content/uploads/2018/01/Mesa-de-SMC-Pres@0.75x.png
ORGANIZER;CN="Marouane%20AJRAOUI":MAILTO:marouane.ajraoui@jedisquad.com
END:VEVENT
END:VCALENDAR