BEGIN:VCALENDAR
VERSION:2.0
PRODID:-//JEDISQUAD - ECPv5.4.0.2//NONSGML v1.0//EN
CALSCALE:GREGORIAN
METHOD:PUBLISH
X-WR-CALNAME:JEDISQUAD
X-ORIGINAL-URL:https://jedisquad.com
X-WR-CALDESC:Events for JEDISQUAD
BEGIN:VTIMEZONE
TZID:Europe/Madrid
BEGIN:DAYLIGHT
TZOFFSETFROM:+0100
TZOFFSETTO:+0200
TZNAME:CEST
DTSTART:20200329T010000
END:DAYLIGHT
BEGIN:STANDARD
TZOFFSETFROM:+0200
TZOFFSETTO:+0100
TZNAME:CET
DTSTART:20201025T010000
END:STANDARD
END:VTIMEZONE
BEGIN:VEVENT
DTSTART;TZID=Europe/Madrid:20200411T093000
DTEND;TZID=Europe/Madrid:20200412T173000
DTSTAMP:20260423T020538
CREATED:20190912T213041Z
LAST-MODIFIED:20200213T230616Z
UID:3276-1586597400-1586712600@jedisquad.com
SUMMARY:Formation scrum master (PSM I) Casablanca Maroc
DESCRIPTION:Les méthodes Agiles sont de plus en plus utilisées dans la conduite de projet. SCRUM est la plus connue et la plus utilisée. Cette formation vous donnera les éléments de base à mettre en place pour assurer votre rôle de Scrum Master\, et vous permettra de vous préparer à la certification Professional Scrum Master1 de Scrum.org. Cette formation apportant des exercices concrets. Vous permet d’appréhender les étapes et outils d’une démarche Agile (Scrum)\, et de la corriger aux bons moments dans l’avancement de vos projets. Elle vous permettra d’en jouer le rôle de garant durant le projet. \nA qui s’adresse cette formation ?\nPour qui\nChef de projet.\nMaîtrise d’ouvrage.\nArchitecte. Développeur.\nChef de projets digitaux.\nResponsable de site internet ou extranet.\nResponsable qualité. \nLIEU\nCASABLANCA MAROC
URL:https://jedisquad.com/event/scrum-master-psm-i-casablanca-maroc/
ORGANIZER;CN="Marouane%20AJRAOUI":MAILTO:marouane.ajraoui@jedisquad.com
END:VEVENT
END:VCALENDAR