BEGIN:VCALENDAR
VERSION:2.0
PRODID:-//JEDISQUAD - ECPv5.4.0.2//NONSGML v1.0//EN
CALSCALE:GREGORIAN
METHOD:PUBLISH
X-WR-CALNAME:JEDISQUAD
X-ORIGINAL-URL:https://jedisquad.com
X-WR-CALDESC:Events for JEDISQUAD
BEGIN:VTIMEZONE
TZID:Europe/Madrid
BEGIN:DAYLIGHT
TZOFFSETFROM:+0100
TZOFFSETTO:+0200
TZNAME:CEST
DTSTART:20200329T010000
END:DAYLIGHT
BEGIN:STANDARD
TZOFFSETFROM:+0200
TZOFFSETTO:+0100
TZNAME:CET
DTSTART:20201025T010000
END:STANDARD
END:VTIMEZONE
BEGIN:VEVENT
DTSTART;TZID=Europe/Madrid:20200907T090000
DTEND;TZID=Europe/Madrid:20200908T180000
DTSTAMP:20260423T070902
CREATED:20200831T190654Z
LAST-MODIFIED:20210320T213103Z
UID:4618-1599469200-1599588000@jedisquad.com
SUMMARY:TRAINING PRODUCT OWNER (PSPO I) CASABLANCA MOROCCO
DESCRIPTION:In an Agile project\, in the case of Scrum\, the Product Owner has an essential role. In order to ensure this role with ease and efficiency\, it is important to master its different facets. This training brings you the key and relevant elements to succeed in this role as well as the certification exam that remains an undeniable plus in today’s job market. \nWHO IS THIS TRAINING FOR?\n\n\nFOR WHOM?\n\nProject manager\nInnovation Manager\nFuture Product Owner\nBusiness analyst\nBusiness Director\nIT Director\nAgile project team member\n\nPrerequisite\n\nRead the Scrum guide beforehand and sensitivity to methods are a plus.\nBasic knowledge in project management.\nA good level of English is required (English exam).\n\nTHE OBJECTIVES OF THE TRAINING\n\n\nPass Scrum.org’s Professional Scrum Product Owner 1 certification: \n\nUnderstanding SCRUM’s principles and practices\nIdentifying the role of different actors\nUnderstand and practice the role of a Product Owner\nImplement the SCRUM approach and adapt it to its context.\nComplete Scrum.org’s Professional Scrum Product Owner 1 certification.
URL:https://jedisquad.com/event/training-product-owner-pspo-i-casablanca-morocco/
CATEGORIES:PSPO I PROFESSIONAL SCRUM PRODUCT OWNER
ATTACH;FMTTYPE=image/png:https://jedisquad.com/wp-content/uploads/2019/05/1PSPO-Logo.png
END:VEVENT
END:VCALENDAR