BEGIN:VCALENDAR
VERSION:2.0
PRODID:-//JEDISQUAD - ECPv5.4.0.2//NONSGML v1.0//EN
CALSCALE:GREGORIAN
METHOD:PUBLISH
X-WR-CALNAME:JEDISQUAD
X-ORIGINAL-URL:https://jedisquad.com
X-WR-CALDESC:Events for JEDISQUAD
BEGIN:VTIMEZONE
TZID:Europe/Madrid
BEGIN:DAYLIGHT
TZOFFSETFROM:+0100
TZOFFSETTO:+0200
TZNAME:CEST
DTSTART:20200329T010000
END:DAYLIGHT
BEGIN:STANDARD
TZOFFSETFROM:+0200
TZOFFSETTO:+0100
TZNAME:CET
DTSTART:20201025T010000
END:STANDARD
END:VTIMEZONE
BEGIN:VEVENT
DTSTART;TZID=Europe/Madrid:20200704T093000
DTEND;TZID=Europe/Madrid:20200705T173000
DTSTAMP:20260426T045023
CREATED:20191102T192406Z
LAST-MODIFIED:20200211T165755Z
UID:3811-1593855000-1593970200@jedisquad.com
SUMMARY:FORMATION PRODUCT OWNER (PSPO I) CASABLANCA MAROC
DESCRIPTION:Dans un projet Agile le représentant du représentant produit ou Product Owner dans le cas de Scrum a un rôle essentiel. Afin de le tenir avec aisance\, il est important de bien en maîtriser les différentes facettes. Cette formation vous en apporte les éléments et le passage de l’examen de certification est un plus indéniable. \nA qui s’adresse cette formation ?\n\n\nPour qui?\n\nChef de projet.\nResponsable en innovation.\nFurur Scrum Product Owner.\nAnalyste métier.\nDirecteur métier.\nMaîtrise d’ouvrage\,\nMembre d’équipe projet Agile.\n\nPrérequis\n\nLire le Scrum guide au préalable et une sensibiliation aux méthodes sont un plus.\nConnaissances de base en conduite de projet.\nUne bonne maîtrise de l’anglais est nécessaire (examen en anglais).\n\nLes objectifs de la formation\n\n\nPasser la certification Professional Scrum Product Owner 1 de Scrum.org : \n\nComprendre les principes de SCRUM.\nAssurer son rôle de Scrum Product Owner.\nIdentifier le rôle des différents acteurs.\nMettre en œuvre la démarche SCRUM et l’adapter à son contexte.\nRéussir sa certification Professional Scrum Product Owner 1 de Scrum.org.\n\n 
URL:https://jedisquad.com/event/formation-product-owner-pspo-i-casablanca-maroc/
LOCATION:casablanca\, 3ème étage\, Technopark\, N°339 Rue D\,\, Casablanca\, Casablanca\, 20150\, Morocco
CATEGORIES:PSPO I PROFESSIONAL SCRUM PRODUCT OWNER
ATTACH;FMTTYPE=image/png:https://jedisquad.com/wp-content/uploads/2019/05/1PSPO-Logo.png
ORGANIZER;CN="Marouane%20AJRAOUI":MAILTO:marouane.ajraoui@jedisquad.com
END:VEVENT
BEGIN:VEVENT
DTSTART;TZID=Europe/Madrid:20200704T093000
DTEND;TZID=Europe/Madrid:20200705T173000
DTSTAMP:20260426T045023
CREATED:20200314T144108Z
LAST-MODIFIED:20200608T191448Z
UID:3311-1593855000-1593970200@jedisquad.com
SUMMARY:FORMATION PRODUCT OWNER (PSPO I) CASABLANCA MAROC
DESCRIPTION:  \nDans un projet Agile le représentant du représentant produit ou Product Owner dans le cas de Scrum a un rôle essentiel. Afin de le tenir avec aisance\, il est important de bien en maîtriser les différentes facettes. Cette formation vous en apporte les éléments et le passage de l’examen de certification est un plus indéniable. \nA qui s’adresse cette formation ?\n\n\nPour qui?\n\nChef de projet.\nResponsable en innovation.\nFurur Scrum Product Owner.\nAnalyste métier.\nDirecteur métier.\nMaîtrise d’ouvrage\,\nMembre d’équipe projet Agile.\n\nPrérequis\n\nLire le Scrum guide au préalable et une sensibiliation aux méthodes sont un plus.\nConnaissances de base en conduite de projet.\nUne bonne maîtrise de l’anglais est nécessaire (examen en anglais).\n\nLes objectifs de la formation\n\n\nPasser la certification Professional Scrum Product Owner 1 de Scrum.org : \n\nComprendre les principes de SCRUM.\nAssurer son rôle de Scrum Product Owner.\nIdentifier le rôle des différents acteurs.\nMettre en œuvre la démarche SCRUM et l’adapter à son contexte.\nRéussir sa certification Professional Scrum Product Owner 1 de Scrum.org.\n\n 
URL:https://jedisquad.com/event/formation-product-owner-po-pspo-i-casablanca-maroc/
LOCATION:casablanca\, 3ème étage\, Technopark\, N°339 Rue D\,\, Casablanca\, Casablanca\, 20150\, Morocco
CATEGORIES:PSPO I PROFESSIONAL SCRUM PRODUCT OWNER
ATTACH;FMTTYPE=image/png:https://jedisquad.com/wp-content/uploads/2019/05/1PSPO-Logo.png
ORGANIZER;CN="Marouane%20AJRAOUI":MAILTO:marouane.ajraoui@jedisquad.com
END:VEVENT
END:VCALENDAR