BEGIN:VCALENDAR
VERSION:2.0
PRODID:-//JEDISQUAD - ECPv5.4.0.2//NONSGML v1.0//EN
CALSCALE:GREGORIAN
METHOD:PUBLISH
X-WR-CALNAME:JEDISQUAD
X-ORIGINAL-URL:https://jedisquad.com
X-WR-CALDESC:Events for JEDISQUAD
BEGIN:VTIMEZONE
TZID:Europe/Madrid
BEGIN:DAYLIGHT
TZOFFSETFROM:+0100
TZOFFSETTO:+0200
TZNAME:CEST
DTSTART:20200329T010000
END:DAYLIGHT
BEGIN:STANDARD
TZOFFSETFROM:+0200
TZOFFSETTO:+0100
TZNAME:CET
DTSTART:20201025T010000
END:STANDARD
END:VTIMEZONE
BEGIN:VEVENT
DTSTART;VALUE=DATE:20200917
DTEND;VALUE=DATE:20200919
DTSTAMP:20260426T013122
CREATED:20191001T215238Z
LAST-MODIFIED:20200831T193603Z
UID:3531-1600300800-1600473599@jedisquad.com
SUMMARY:Formation Certification scrum master Casablanca PSM 1
DESCRIPTION:Mettez toutes les chances de votre coté pour décrocher la certification SCRUM MASTER (PSM I)  de Scrum.org.\n\n\n\nLes méthodes Agiles sont de plus en plus utilisées dans la conduite de projet. SCRUM est la plus connue et la plus utilisée. Cette formation vous donnera les éléments de base à mettre en place pour assurer votre rôle de Scrum Master\, et vous permettra de vous préparer à la certification Professional Scrum Master1 de Scrum.org. Cette formation apportant des exercices concrets. Vous permet d’appréhender les étapes et outils d’une démarche Agile (Scrum)\, et de la corriger aux bons moments dans l’avancement de vos projets. Elle vous permettra d’en jouer le rôle de garant durant le projet. \nA QUI S’ADRESSE CETTE FORMATION ?\nPour qui?\nChef de projet.\nMaîtrise d’ouvrage.\nArchitecte. Développeur.\nChef de projets digitaux.\nResponsable de site internet ou extranet.\nResponsable qualité. \nLIEU\nCASABLANCA MAROC \n\nPour plus d’informations concernant la formation
URL:https://jedisquad.com/event/formation-certification-scrum-master-psmi/
LOCATION:casablanca\, 3ème étage\, Technopark\, N°339 Rue D\, Casablanca\, 20150\, Casablanca\, 20150\, Morocco
ATTACH;FMTTYPE=image/png:https://jedisquad.com/wp-content/uploads/2019/05/1PSM-Logo.png
ORGANIZER;CN="Marouane%20AJRAOUI":MAILTO:marouane.ajraoui@jedisquad.com
END:VEVENT
BEGIN:VEVENT
DTSTART;VALUE=DATE:20200917
DTEND;VALUE=DATE:20200919
DTSTAMP:20260426T013122
CREATED:20200831T164602Z
LAST-MODIFIED:20200831T164602Z
UID:4616-1600300800-1600473599@jedisquad.com
SUMMARY:Certified Training scrum master Casablanca PSM 1
DESCRIPTION:Put all the odds on your side to get the SCRUM MASTER (PSM I) certification of Scrum.org.\n\n\n\nAgile methods are increasingly used in project management. SCRUM is the best known and most used. This training will give you the basics to put in place to ensure your role as Scrum Master\, and will allow you to prepare for the Professional Scrum Master1 certification of Scrum.org. This training brings concrete exercises. Allows you to understand the steps and tools of an Agile (Scrum) approach\, and correct it at the right times in the progress of your projects. It will allow you to act as a guarantor during the project. \nWHO IS THIS TRAINING FOR?\nFor whom?\nProject manager.\nBusiness Analyst\nArchitect Developer.\nHead of digital projects.\nWebsite or extranet manager.\nQuality manager. \nPlace\nCASABLANCA MAROC \n\nFor more information about training
URL:https://jedisquad.com/event/certified-training-scrum-master-casablanca-psm-1/
LOCATION:casablanca\, 3ème étage\, Technopark\, N°339 Rue D\, Casablanca\, 20150\, Casablanca\, 20150\, Morocco
ATTACH;FMTTYPE=image/png:https://jedisquad.com/wp-content/uploads/2019/05/1PSM-Logo-e1557071654665.png
ORGANIZER;CN="Marouane%20AJRAOUI":MAILTO:marouane.ajraoui@jedisquad.com
END:VEVENT
END:VCALENDAR