BEGIN:VCALENDAR
VERSION:2.0
PRODID:-//JEDISQUAD - ECPv5.4.0.2//NONSGML v1.0//EN
CALSCALE:GREGORIAN
METHOD:PUBLISH
X-WR-CALNAME:JEDISQUAD
X-ORIGINAL-URL:https://jedisquad.com
X-WR-CALDESC:Events for JEDISQUAD
BEGIN:VTIMEZONE
TZID:Europe/Madrid
BEGIN:DAYLIGHT
TZOFFSETFROM:+0100
TZOFFSETTO:+0200
TZNAME:CEST
DTSTART:20200329T010000
END:DAYLIGHT
BEGIN:STANDARD
TZOFFSETFROM:+0200
TZOFFSETTO:+0100
TZNAME:CET
DTSTART:20201025T010000
END:STANDARD
END:VTIMEZONE
BEGIN:VEVENT
DTSTART;TZID=Europe/Madrid:20201010T093000
DTEND;TZID=Europe/Madrid:20201011T173000
DTSTAMP:20260425T234303
CREATED:20171228T225349Z
LAST-MODIFIED:20200211T160712Z
UID:849-1602322200-1602437400@jedisquad.com
SUMMARY:SCRUM MASTER CERTIFIED (SMC)-Barcelona SPAIN
DESCRIPTION:Request More Info  Enrol in instructor led training
URL:https://jedisquad.com/event/scrum-master-certified-smc/
LOCATION:Barcelona\, Calle Constitución 4\, local 1\, Barcelona\, San just Desvern\, 08960\, Spain
CATEGORIES:SCRUM MASTER CERTIFIED (SMC)
ORGANIZER;CN="Marouane%20AJRAOUI":MAILTO:marouane.ajraoui@jedisquad.com
END:VEVENT
END:VCALENDAR