BEGIN:VCALENDAR
VERSION:2.0
PRODID:-//JEDISQUAD - ECPv5.4.0.2//NONSGML v1.0//EN
CALSCALE:GREGORIAN
METHOD:PUBLISH
X-WR-CALNAME:JEDISQUAD
X-ORIGINAL-URL:https://jedisquad.com
X-WR-CALDESC:Events for JEDISQUAD
BEGIN:VTIMEZONE
TZID:Europe/Madrid
BEGIN:DAYLIGHT
TZOFFSETFROM:+0100
TZOFFSETTO:+0200
TZNAME:CEST
DTSTART:20210328T010000
END:DAYLIGHT
BEGIN:STANDARD
TZOFFSETFROM:+0200
TZOFFSETTO:+0100
TZNAME:CET
DTSTART:20211031T010000
END:STANDARD
END:VTIMEZONE
BEGIN:VEVENT
DTSTART;TZID=Europe/Madrid:20210405T173000
DTEND;TZID=Europe/Madrid:20210406T203000
DTSTAMP:20260425T132541
CREATED:20200715T211710Z
LAST-MODIFIED:20210319T000612Z
UID:4327-1617643800-1617741000@jedisquad.com
SUMMARY:FORMATION CERTIFICATION BUSINESS AGILITY PARIS FRANCE
DESCRIPTION:La «Business Agility» d’une organisation qualifie sa capacité à détecter les changements\, à s’appuyer rapidement sur les nouvelles conditions du marché et à réagir en conséquence afin de fournir la valeur la plus élevée à un écosystème… en un minimum de temps. \nComment aider une organisation à développer sa “Business Agility”?  \nCette formation et certification XSCALE BUSINESS AGILITY permet aux organisations d’y parvenir par étapes faciles\, minimisant les risques tout en démontrant continuellement les bénéfices. Elle fournit une approche simple et pratique à la BUSINESS AGILITY et guide vers le suivant: \n\nSimplification et accélération des structures de communication\nOptimisation des protocoles de leadership et prise de décisions rapide\nCréation des flux de valeur autogérés par des équipes auto-organisées sans perturber les secteurs d’activité existants.\nMinimisation des interdépendances pour améliorer le TTM de votre organisation.\nTransformation du “Command and Control” en “Autonomy and Alignement”\nStimulation d’une organisation performante via la théorie des jeux et des “Rewards Model” à travers le organisation.\nPropulsion de nouvelles sources de valeur en quelques mois\, pas des années via le «Seven Samurai Kanban».Ce chemin est beaucoup plus facile\, moins cher\, plus rapide et plus sûr que les transformations «push» basées sur un framework\, et fiable même dans les environnements les plus politiquement complexes.\nVous apprendrez à ouvrir des goulots d’étranglement dans le flux de valeur\, le flux de travail et le flux d’apprentissage entre les équipes grâce à des simulations de pratiques de la Business Agility: «Game Without Thrones»\, «Pirate Canvas» et «3D Kanban ».\nVous découvrirez de nouvelles voies pour la croissance de votre entreprise. Au lieu de flux à sens unique du producteur vers le consommateur\, vous apprendrez à traiter les marchés comme des écosystèmes\, des «réseaux d’avantages mutuels» canalisés à travers votre entreprise.\n\nXBA est complémentaire mais ne remplace pas les cadres Agile-in-IT traditionnels\, et ne suppose aucune connaissance préalable sur la culture Agile\, sauf une connaissance de base du manifeste Agile. \nPour plus d’information: Contactez nous
URL:https://jedisquad.com/event/formation-certification-business-agility-paris-france/
CATEGORIES:Business Agility
ATTACH;FMTTYPE=image/jpeg:https://jedisquad.com/wp-content/uploads/2020/03/xscale-alliance-berlin-product-people-2.jpg
END:VEVENT
BEGIN:VEVENT
DTSTART;TZID=Europe/Madrid:20210405T173000
DTEND;TZID=Europe/Madrid:20210406T203000
DTSTAMP:20260425T132541
CREATED:20200831T153804Z
LAST-MODIFIED:20210319T010709Z
UID:4610-1617643800-1617741000@jedisquad.com
SUMMARY:CERTIFIED TRAINING ON BUSINESS AGILITY PARIS FRANCE
DESCRIPTION:An organization’s “Business Agility” describes its ability to detect the change\, quickly build on new market conditions and respond accordingly to provide the highest value to an ecosystem… in a minimum of time. \nHow can we help an organization develop its Business Agility?  \nThis XSCALE BUSINESS AGILITY training and certification allows organizations to achieve this in easy steps\, minimizing risk while continuously demonstrating benefits. It provides a simple and practical approach to BUSINESS AGILITY and guides to: \n\nSimplification and acceleration of communication structures\nOptimizing leadership protocols and making quick decisions\nCreating self-managed value flows by self-organized teams without disrupting existing industries.\nMinimizing interdependencies to improve your organization’s TTM.\nTransformation of “Command and Control” into “Autonomy and Alignment”\nStimulating a successful organization through game theory and “Rewards Model” through the organization.\nPropulsion of new sources of value in a few months\, not years via the “Seven Samurai Kanban”. This path is much easier\, cheaper\, faster and safer than framework-based “push” transformations\, and reliable even in the most politically complex environments.\nYou’ll learn how to open bottlenecks in the value flow\, workflow and learning flow between teams through simulations of Business Agility practices: “Game Without Thrones\,” “Pirate Canvas” and “3D Kanban.”\nYou’ll discover new ways to grow your business. Instead of one-way flows from the producer to the consumer\, you will learn to treat markets as ecosystems\, “mutual benefit networks” channelled through your business.\n\nXBA is complementary but does not replace traditional Agile-in-IT frameworks\, and does not require any prior knowledge of Agile culture\, except a basic knowledge of the Agile manifesto. \nFor more information: Contact us
URL:https://jedisquad.com/event/certified-training-on-business-agility-paris-france/
CATEGORIES:Business Agility
ATTACH;FMTTYPE=image/jpeg:https://jedisquad.com/wp-content/uploads/2020/03/xscale-alliance-berlin-product-people-2.jpg
END:VEVENT
END:VCALENDAR